BEGIN:VCALENDAR
VERSION:2.0
PRODID:-//ChamberMaster//Event Calendar 2.0//EN
METHOD:PUBLISH
X-PUBLISHED-TTL:P1H
REFRESH-INTERVAL:P1H
CALSCALE:GREGORIAN
BEGIN:VTIMEZONE
TZID:America/Vancouver
BEGIN:DAYLIGHT
RRULE:FREQ=YEARLY;BYMONTH=3;BYDAY=2SU
DTSTART:20070101T000000
TZOFFSETFROM:-0800
TZOFFSETTO:-0700
TZNAME:Pacific Daylight Time
END:DAYLIGHT
BEGIN:STANDARD
RRULE:FREQ=YEARLY;BYMONTH=11;BYDAY=1SU
DTSTART:20070101T000000
TZOFFSETFROM:-0700
TZOFFSETTO:-0800
TZNAME:Pacific Standard Time
END:STANDARD
END:VTIMEZONE
BEGIN:VEVENT
DTSTART;TZID=America/Vancouver:20260720T080000
DTEND;TZID=America/Vancouver:20260723T150000
X-MICROSOFT-CDO-ALLDAYEVENT:FALSE
SUMMARY:SNIS 23rd Annual Meeting - Virtual Attendee Registration
DESCRIPTION:This registration form is for attendees planning to attend virtually. SNIS members must enter their email address in order to access member rates. Logging in is not necessary. You can register multiple attendees with this form but each attendee will need their own email. All virtual attendees will have access to the on-demand sessions when they are made available after the meeting (availability date TBD). Visit https://snisannualmeeting.org/ for more information.Want to save $100 on your registration? We invite medical attendees to fill out a short survey to receive a promo code to use on the registration form. Practicing MDs\, Fellows and APP attendees are welcome to use the link below to fill out this survey. Please note that you will need to enter the promo code you are given after completing the survey on the meeting registration form in order to receive the discount.Registration SurveyIf you would like to attend in-person you can register here.
X-ALT-DESC;FMTTYPE=text/html:<!DOCTYPE html><html><head><title></title></head><body aria-disabled="false"><p>This registration form is for attendees planning to attend virtually. SNIS members must enter their email address in order to access member rates. Logging in is not necessary. You can register multiple attendees with this form but each attendee will need their own email. All virtual attendees will have access to the on-demand sessions when they are made available after the meeting (availability date TBD).&nbsp\;Visit&nbsp\;<a fr-original-style="" href="https://snisannualmeeting.org/" style="user-select: auto\;">https://snisannualmeeting.org/</a> for more information.</p><p><strong fr-original-style="" style="font-weight: 700\;">Want to save $100 on your registration?</strong> We invite medical attendees to fill out a short survey to receive a promo code to use on the registration form. Practicing MDs\, Fellows and APP attendees are welcome to use the link below to fill out this survey. Please note that you will need to enter the promo code you are given after completing the survey on the meeting registration form in order to receive the discount.</p><p><a fr-original-style="" href="https://www.surveymonkey.com/r/5SXKTDX" rel="noopener noreferrer" style="user-select: auto\;" target="_blank">Registration Survey</a></p><p>If you would like to attend in-person you can <a fr-original-style="" href="https://members.snisonline.org/ap/Events/Register/nvFQ5WQSECNCZ" rel="noopener noreferrer" style="user-select: auto\;" target="_blank">register here</a>.</p></body></html>
LOCATION:705 Pike Street Seattle WA 98101
UID:e.4361.1433980
SEQUENCE:3
DTSTAMP:20260425T175209Z
URL:https://members.snisonline.org/sniseventscalendar/Details/snis-23rd-annual-meeting-virtual-attendee-registration-1697476?sourceTypeId=Hub
END:VEVENT
END:VCALENDAR
